BEGIN:VCALENDAR
VERSION:2.0
PRODID:-//Jacob Wismer PTO - ECPv6.13.2.1//NONSGML v1.0//EN
CALSCALE:GREGORIAN
METHOD:PUBLISH
X-ORIGINAL-URL:https://www.jacobwismerpto.org
X-WR-CALDESC:Events for Jacob Wismer PTO
REFRESH-INTERVAL;VALUE=DURATION:PT1H
X-Robots-Tag:noindex
X-PUBLISHED-TTL:PT1H
BEGIN:VTIMEZONE
TZID:America/Los_Angeles
BEGIN:DAYLIGHT
TZOFFSETFROM:-0800
TZOFFSETTO:-0700
TZNAME:PDT
DTSTART:20190310T100000
END:DAYLIGHT
BEGIN:STANDARD
TZOFFSETFROM:-0700
TZOFFSETTO:-0800
TZNAME:PST
DTSTART:20191103T090000
END:STANDARD
END:VTIMEZONE
BEGIN:VEVENT
DTSTART;VALUE=DATE:20191216
DTEND;VALUE=DATE:20191221
DTSTAMP:20260423T093941
CREATED:20190910T064748Z
LAST-MODIFIED:20190910T064748Z
UID:919299-1576454400-1576886399@www.jacobwismerpto.org
SUMMARY:Passport club check-out
DESCRIPTION:
URL:https://www.jacobwismerpto.org/calendar/passport-club-check-out-4/
END:VEVENT
BEGIN:VEVENT
DTSTART;VALUE=DATE:20191209
DTEND;VALUE=DATE:20191210
DTSTAMP:20260423T093941
CREATED:20190910T064710Z
LAST-MODIFIED:20190910T064710Z
UID:919297-1575849600-1575849600@www.jacobwismerpto.org
SUMMARY:PTO Newsletter (E-blast)
DESCRIPTION:
URL:https://www.jacobwismerpto.org/calendar/pto-newsletter-e-blast-6/
END:VEVENT
BEGIN:VEVENT
DTSTART;VALUE=DATE:20191205
DTEND;VALUE=DATE:20191206
DTSTAMP:20260423T093941
CREATED:20190910T064617Z
LAST-MODIFIED:20190910T064617Z
UID:919295-1575504000-1575590399@www.jacobwismerpto.org
SUMMARY:Picture re-takes
DESCRIPTION:
URL:https://www.jacobwismerpto.org/calendar/picture-re-takes/
END:VEVENT
BEGIN:VEVENT
DTSTART;TZID=America/Los_Angeles:20191203T180000
DTEND;TZID=America/Los_Angeles:20191203T200000
DTSTAMP:20260423T093941
CREATED:20190910T064507Z
LAST-MODIFIED:20190910T064507Z
UID:919293-1575396000-1575403200@www.jacobwismerpto.org
SUMMARY:PTO meeting
DESCRIPTION:
URL:https://www.jacobwismerpto.org/calendar/pto-meeting-10/
END:VEVENT
BEGIN:VEVENT
DTSTART;VALUE=DATE:20191202
DTEND;VALUE=DATE:20191203
DTSTAMP:20260423T093941
CREATED:20190910T064405Z
LAST-MODIFIED:20190910T064405Z
UID:919291-1575244800-1575331199@www.jacobwismerpto.org
SUMMARY:Staff Development Day/No Students
DESCRIPTION:
URL:https://www.jacobwismerpto.org/calendar/staff-development-day-no-students-2/
END:VEVENT
BEGIN:VEVENT
DTSTART;VALUE=DATE:20191125
DTEND;VALUE=DATE:20191126
DTSTAMP:20260423T093941
CREATED:20190910T064322Z
LAST-MODIFIED:20190910T064322Z
UID:919289-1574640000-1574726399@www.jacobwismerpto.org
SUMMARY:PTO Newsletter (E-blast)
DESCRIPTION:
URL:https://www.jacobwismerpto.org/calendar/pto-newsletter-e-blast-5/
END:VEVENT
BEGIN:VEVENT
DTSTART;VALUE=DATE:20191118
DTEND;VALUE=DATE:20191123
DTSTAMP:20260423T093941
CREATED:20190910T064248Z
LAST-MODIFIED:20190910T064248Z
UID:919286-1574035200-1574467199@www.jacobwismerpto.org
SUMMARY:Passport club check-out
DESCRIPTION:
URL:https://www.jacobwismerpto.org/calendar/passport-club-check-out-3/
END:VEVENT
BEGIN:VEVENT
DTSTART;VALUE=DATE:20191118
DTEND;VALUE=DATE:20191119
DTSTAMP:20260423T093941
CREATED:20190910T064201Z
LAST-MODIFIED:20190910T064201Z
UID:919284-1574035200-1574121599@www.jacobwismerpto.org
SUMMARY:Art Literacy Training
DESCRIPTION:
URL:https://www.jacobwismerpto.org/calendar/art-literacy-training/
END:VEVENT
BEGIN:VEVENT
DTSTART;TZID=America/Los_Angeles:20191114T180000
DTEND;TZID=America/Los_Angeles:20191114T200000
DTSTAMP:20260423T093941
CREATED:20190910T063854Z
LAST-MODIFIED:20190910T063854Z
UID:919278-1573754400-1573761600@www.jacobwismerpto.org
SUMMARY:STEAM Night
DESCRIPTION:
URL:https://www.jacobwismerpto.org/calendar/steam-night/
END:VEVENT
BEGIN:VEVENT
DTSTART;VALUE=DATE:20191114
DTEND;VALUE=DATE:20191115
DTSTAMP:20260423T093941
CREATED:20190910T064052Z
LAST-MODIFIED:20190910T064052Z
UID:919282-1573689600-1573775999@www.jacobwismerpto.org
SUMMARY:Vision screening
DESCRIPTION:
URL:https://www.jacobwismerpto.org/calendar/vision-screening/
END:VEVENT
BEGIN:VEVENT
DTSTART;VALUE=DATE:20191112
DTEND;VALUE=DATE:20191113
DTSTAMP:20260423T093941
CREATED:20190910T064009Z
LAST-MODIFIED:20190910T064009Z
UID:919280-1573516800-1573603199@www.jacobwismerpto.org
SUMMARY:PTO Newsletter (E-blast)
DESCRIPTION:
URL:https://www.jacobwismerpto.org/calendar/pto-newsletter-e-blast-4/
END:VEVENT
BEGIN:VEVENT
DTSTART;VALUE=DATE:20191106
DTEND;VALUE=DATE:20191109
DTSTAMP:20260423T093941
CREATED:20190910T063804Z
LAST-MODIFIED:20190910T063804Z
UID:919276-1572998400-1573257599@www.jacobwismerpto.org
SUMMARY:Fall conferences
DESCRIPTION:
URL:https://www.jacobwismerpto.org/calendar/fall-conferences/
END:VEVENT
BEGIN:VEVENT
DTSTART;TZID=America/Los_Angeles:20191105T180000
DTEND;TZID=America/Los_Angeles:20191105T200000
DTSTAMP:20260423T093941
CREATED:20190910T063717Z
LAST-MODIFIED:20190910T063717Z
UID:919274-1572976800-1572984000@www.jacobwismerpto.org
SUMMARY:PTO meeting
DESCRIPTION:
URL:https://www.jacobwismerpto.org/calendar/pto-meeting-9/
END:VEVENT
BEGIN:VEVENT
DTSTART;VALUE=DATE:20191101
DTEND;VALUE=DATE:20191102
DTSTAMP:20260423T093941
CREATED:20190910T063604Z
LAST-MODIFIED:20190910T063604Z
UID:919272-1572566400-1572652799@www.jacobwismerpto.org
SUMMARY:Grading day/No students
DESCRIPTION:
URL:https://www.jacobwismerpto.org/calendar/grading-day-no-students/
END:VEVENT
BEGIN:VEVENT
DTSTART;VALUE=DATE:20191028
DTEND;VALUE=DATE:20191029
DTSTAMP:20260423T093941
CREATED:20190910T063256Z
LAST-MODIFIED:20190910T063256Z
UID:919266-1572220800-1572307199@www.jacobwismerpto.org
SUMMARY:PTO Newsletter (E-blast)
DESCRIPTION:
URL:https://www.jacobwismerpto.org/calendar/pto-newsletter-e-blast-3/
END:VEVENT
BEGIN:VEVENT
DTSTART;VALUE=DATE:20191021
DTEND;VALUE=DATE:20191026
DTSTAMP:20260423T093941
CREATED:20190910T063350Z
LAST-MODIFIED:20190910T063350Z
UID:919268-1571616000-1572047999@www.jacobwismerpto.org
SUMMARY:Passport club check-out
DESCRIPTION:
URL:https://www.jacobwismerpto.org/calendar/passport-club-check-out/
END:VEVENT
BEGIN:VEVENT
DTSTART;TZID=America/Los_Angeles:20191018T180000
DTEND;TZID=America/Los_Angeles:20191018T200000
DTSTAMP:20260423T093941
CREATED:20190808T171631Z
LAST-MODIFIED:20190808T171631Z
UID:918999-1571421600-1571428800@www.jacobwismerpto.org
SUMMARY:Fall Event
DESCRIPTION:
URL:https://www.jacobwismerpto.org/calendar/fall-event/
END:VEVENT
BEGIN:VEVENT
DTSTART;VALUE=DATE:20191016
DTEND;VALUE=DATE:20191017
DTSTAMP:20260423T093941
CREATED:20190808T171528Z
LAST-MODIFIED:20190808T171528Z
UID:918997-1571184000-1571270399@www.jacobwismerpto.org
SUMMARY:Picture Day
DESCRIPTION:
URL:https://www.jacobwismerpto.org/calendar/picture-day/
END:VEVENT
BEGIN:VEVENT
DTSTART;VALUE=DATE:20191014
DTEND;VALUE=DATE:20191015
DTSTAMP:20260423T093941
CREATED:20190910T063059Z
LAST-MODIFIED:20190910T063059Z
UID:919262-1571011200-1571097599@www.jacobwismerpto.org
SUMMARY:PTO Newsletter (E-blast)
DESCRIPTION:
URL:https://www.jacobwismerpto.org/calendar/pto-newsletter-e-blast/
END:VEVENT
BEGIN:VEVENT
DTSTART;VALUE=DATE:20191011
DTEND;VALUE=DATE:20191012
DTSTAMP:20260423T093941
CREATED:20190910T062939Z
LAST-MODIFIED:20190910T062939Z
UID:919260-1570752000-1570838399@www.jacobwismerpto.org
SUMMARY:Staff Development Day/No students
DESCRIPTION:
URL:https://www.jacobwismerpto.org/calendar/staff-development-day-no-students/
END:VEVENT
BEGIN:VEVENT
DTSTART;VALUE=DATE:20191007
DTEND;VALUE=DATE:20191008
DTSTAMP:20260423T093941
CREATED:20190808T171439Z
LAST-MODIFIED:20190808T171439Z
UID:918995-1570406400-1570492799@www.jacobwismerpto.org
SUMMARY:Jogathon (Back Up Date)
DESCRIPTION:
URL:https://www.jacobwismerpto.org/calendar/jogathon-back-up-date/
LOCATION:Playground
END:VEVENT
BEGIN:VEVENT
DTSTART;VALUE=DATE:20191004
DTEND;VALUE=DATE:20191005
DTSTAMP:20260423T093941
CREATED:20190808T171304Z
LAST-MODIFIED:20190808T171304Z
UID:918993-1570147200-1570233599@www.jacobwismerpto.org
SUMMARY:Jogathon
DESCRIPTION:
URL:https://www.jacobwismerpto.org/calendar/jogathon/
LOCATION:Playground
END:VEVENT
BEGIN:VEVENT
DTSTART;VALUE=DATE:20191002
DTEND;VALUE=DATE:20191003
DTSTAMP:20260423T093941
CREATED:20190808T171210Z
LAST-MODIFIED:20190808T171210Z
UID:918991-1569974400-1570060799@www.jacobwismerpto.org
SUMMARY:Walk or Bike to School
DESCRIPTION:
URL:https://www.jacobwismerpto.org/calendar/walk-or-bike-to-school/
END:VEVENT
BEGIN:VEVENT
DTSTART;TZID=America/Los_Angeles:20191001T180000
DTEND;TZID=America/Los_Angeles:20191001T190000
DTSTAMP:20260423T093941
CREATED:20190808T171124Z
LAST-MODIFIED:20190808T171124Z
UID:918989-1569952800-1569956400@www.jacobwismerpto.org
SUMMARY:PTO Meeting
DESCRIPTION:
URL:https://www.jacobwismerpto.org/calendar/pto-meeting-8/
LOCATION:LIbrary
END:VEVENT
BEGIN:VEVENT
DTSTART;TZID=America/Los_Angeles:20190930T190000
DTEND;TZID=America/Los_Angeles:20190930T200000
DTSTAMP:20260423T093941
CREATED:20190808T170943Z
LAST-MODIFIED:20190808T171020Z
UID:918985-1569870000-1569873600@www.jacobwismerpto.org
SUMMARY:Art Lit Training PM
DESCRIPTION:
URL:https://www.jacobwismerpto.org/calendar/art-lit-training-8/
END:VEVENT
BEGIN:VEVENT
DTSTART;TZID=America/Los_Angeles:20190930T083000
DTEND;TZID=America/Los_Angeles:20190930T093000
DTSTAMP:20260423T093941
CREATED:20190808T170857Z
LAST-MODIFIED:20190808T171036Z
UID:918983-1569832200-1569835800@www.jacobwismerpto.org
SUMMARY:Art Lit Training AM
DESCRIPTION:
URL:https://www.jacobwismerpto.org/calendar/art-lit-training-7/
END:VEVENT
BEGIN:VEVENT
DTSTART;TZID=America/Los_Angeles:20190930T080000
DTEND;TZID=America/Los_Angeles:20190930T170000
DTSTAMP:20260423T093941
CREATED:20190816T065238Z
LAST-MODIFIED:20190816T065332Z
UID:919080-1569830400-1569862800@www.jacobwismerpto.org
SUMMARY:PTO newsletter
DESCRIPTION:
URL:https://www.jacobwismerpto.org/calendar/pto-newsletter-2/
END:VEVENT
BEGIN:VEVENT
DTSTART;VALUE=DATE:20190930
DTEND;VALUE=DATE:20191001
DTSTAMP:20260423T093941
CREATED:20190808T170823Z
LAST-MODIFIED:20190808T170823Z
UID:918981-1569801600-1569887999@www.jacobwismerpto.org
SUMMARY:Jogathon Spirit Day- Wear Purple
DESCRIPTION:
URL:https://www.jacobwismerpto.org/calendar/jogathon-spirit-day-wear-purple/
END:VEVENT
BEGIN:VEVENT
DTSTART;VALUE=DATE:20190927
DTEND;VALUE=DATE:20190928
DTSTAMP:20260423T093941
CREATED:20190808T170532Z
LAST-MODIFIED:20190808T170532Z
UID:918978-1569542400-1569628799@www.jacobwismerpto.org
SUMMARY:Jogathon Spirit Day- Wear Red
DESCRIPTION:
URL:https://www.jacobwismerpto.org/calendar/jogathon-spirit-day-wear-red/
END:VEVENT
BEGIN:VEVENT
DTSTART;VALUE=DATE:20190926
DTEND;VALUE=DATE:20190927
DTSTAMP:20260423T093941
CREATED:20190808T170503Z
LAST-MODIFIED:20190808T170503Z
UID:918976-1569456000-1569542399@www.jacobwismerpto.org
SUMMARY:Jogathon Spirit Day- Wear Orange
DESCRIPTION:
URL:https://www.jacobwismerpto.org/calendar/jogathon-spirit-day-wear-orange/
END:VEVENT
END:VCALENDAR