BEGIN:VCALENDAR
VERSION:2.0
PRODID:-//Jacob Wismer PTO - ECPv6.13.2.1//NONSGML v1.0//EN
CALSCALE:GREGORIAN
METHOD:PUBLISH
X-ORIGINAL-URL:https://www.jacobwismerpto.org
X-WR-CALDESC:Events for Jacob Wismer PTO
REFRESH-INTERVAL;VALUE=DURATION:PT1H
X-Robots-Tag:noindex
X-PUBLISHED-TTL:PT1H
BEGIN:VTIMEZONE
TZID:America/Los_Angeles
BEGIN:DAYLIGHT
TZOFFSETFROM:-0800
TZOFFSETTO:-0700
TZNAME:PDT
DTSTART:20180311T100000
END:DAYLIGHT
BEGIN:STANDARD
TZOFFSETFROM:-0700
TZOFFSETTO:-0800
TZNAME:PST
DTSTART:20181104T090000
END:STANDARD
BEGIN:DAYLIGHT
TZOFFSETFROM:-0800
TZOFFSETTO:-0700
TZNAME:PDT
DTSTART:20190310T100000
END:DAYLIGHT
BEGIN:STANDARD
TZOFFSETFROM:-0700
TZOFFSETTO:-0800
TZNAME:PST
DTSTART:20191103T090000
END:STANDARD
END:VTIMEZONE
BEGIN:VEVENT
DTSTART;TZID=America/Los_Angeles:20190205T180000
DTEND;TZID=America/Los_Angeles:20190205T190000
DTSTAMP:20260423T163815
CREATED:20181118T224253Z
LAST-MODIFIED:20181118T224253Z
UID:918813-1549389600-1549393200@www.jacobwismerpto.org
SUMMARY:PTO Meeting
DESCRIPTION:
URL:https://www.jacobwismerpto.org/calendar/pto-meeting-2/
END:VEVENT
BEGIN:VEVENT
DTSTART;TZID=America/Los_Angeles:20190114T190000
DTEND;TZID=America/Los_Angeles:20190114T200000
DTSTAMP:20260423T163815
CREATED:20181118T224021Z
LAST-MODIFIED:20181118T224021Z
UID:918810-1547492400-1547496000@www.jacobwismerpto.org
SUMMARY:Art Lit Training
DESCRIPTION:
URL:https://www.jacobwismerpto.org/calendar/art-lit-training-2/
LOCATION:Staff Room
END:VEVENT
BEGIN:VEVENT
DTSTART;TZID=America/Los_Angeles:20190114T083000
DTEND;TZID=America/Los_Angeles:20190114T100000
DTSTAMP:20260423T163815
CREATED:20181118T223857Z
LAST-MODIFIED:20181118T223857Z
UID:918806-1547454600-1547460000@www.jacobwismerpto.org
SUMMARY:Art Lit Training
DESCRIPTION:
URL:https://www.jacobwismerpto.org/calendar/art-lit-training/
LOCATION:Portable
END:VEVENT
BEGIN:VEVENT
DTSTART;TZID=America/Los_Angeles:20190114T080000
DTEND;TZID=America/Los_Angeles:20190118T170000
DTSTAMP:20260423T163815
CREATED:20181118T223623Z
LAST-MODIFIED:20181118T223623Z
UID:918804-1547452800-1547830800@www.jacobwismerpto.org
SUMMARY:Passport Club
DESCRIPTION:
URL:https://www.jacobwismerpto.org/calendar/passport-club-3/
END:VEVENT
BEGIN:VEVENT
DTSTART;TZID=America/Los_Angeles:20181217T080000
DTEND;TZID=America/Los_Angeles:20181221T170000
DTSTAMP:20260423T163815
CREATED:20181118T223519Z
LAST-MODIFIED:20181118T223519Z
UID:918802-1545033600-1545411600@www.jacobwismerpto.org
SUMMARY:Passport Club
DESCRIPTION:
URL:https://www.jacobwismerpto.org/calendar/passport-club-2/
END:VEVENT
BEGIN:VEVENT
DTSTART;TZID=America/Los_Angeles:20181212T080000
DTEND;TZID=America/Los_Angeles:20181212T140000
DTSTAMP:20260423T163815
CREATED:20181210T201638Z
LAST-MODIFIED:20181210T201638Z
UID:918887-1544601600-1544623200@www.jacobwismerpto.org
SUMMARY:Book Fair
DESCRIPTION:
URL:https://www.jacobwismerpto.org/calendar/book-fair-2/
END:VEVENT
BEGIN:VEVENT
DTSTART;TZID=America/Los_Angeles:20181211T080000
DTEND;TZID=America/Los_Angeles:20181211T170000
DTSTAMP:20260423T163815
CREATED:20181210T201920Z
LAST-MODIFIED:20181210T202203Z
UID:918890-1544515200-1544547600@www.jacobwismerpto.org
SUMMARY:Book Fair
DESCRIPTION:
URL:https://www.jacobwismerpto.org/calendar/book-fair-3/
END:VEVENT
BEGIN:VEVENT
DTSTART;TZID=America/Los_Angeles:20181210T080000
DTEND;TZID=America/Los_Angeles:20181210T170000
DTSTAMP:20260423T163815
CREATED:20181118T223329Z
LAST-MODIFIED:20181210T201843Z
UID:918800-1544428800-1544461200@www.jacobwismerpto.org
SUMMARY:Book Fair
DESCRIPTION:
URL:https://www.jacobwismerpto.org/calendar/book-fair/
END:VEVENT
BEGIN:VEVENT
DTSTART;TZID=America/Los_Angeles:20181204T180000
DTEND;TZID=America/Los_Angeles:20181204T190000
DTSTAMP:20260423T163815
CREATED:20181118T223211Z
LAST-MODIFIED:20181118T223211Z
UID:918798-1543946400-1543950000@www.jacobwismerpto.org
SUMMARY:PTO Meeting
DESCRIPTION:
URL:https://www.jacobwismerpto.org/calendar/pto-meeting/
END:VEVENT
BEGIN:VEVENT
DTSTART;VALUE=DATE:20181129
DTEND;VALUE=DATE:20181130
DTSTAMP:20260423T163815
CREATED:20181118T222910Z
LAST-MODIFIED:20181118T222910Z
UID:918796-1543449600-1543535999@www.jacobwismerpto.org
SUMMARY:Picture Re-Take
DESCRIPTION:
URL:https://www.jacobwismerpto.org/calendar/picture-re-take/
END:VEVENT
BEGIN:VEVENT
DTSTART;VALUE=DATE:20181126
DTEND;VALUE=DATE:20181201
DTSTAMP:20260423T163815
CREATED:20181118T222231Z
LAST-MODIFIED:20181118T222231Z
UID:918794-1543190400-1543622399@www.jacobwismerpto.org
SUMMARY:Passport Club
DESCRIPTION:
URL:https://www.jacobwismerpto.org/calendar/passport-club/
END:VEVENT
END:VCALENDAR